BEGIN:VCALENDAR
VERSION:2.0
PRODID:-//GPS World - ECPv4.5.2.1//NONSGML v1.0//EN
CALSCALE:GREGORIAN
METHOD:PUBLISH
X-WR-CALNAME:GPS World
X-ORIGINAL-URL:http://gpsworld.com
X-WR-CALDESC:Events for GPS World
BEGIN:VEVENT
DTSTART;VALUE=DATE:20170709
DTEND;VALUE=DATE:20170713
DTSTAMP:20170709T163305
CREATED:20170615T195907Z
LAST-MODIFIED:20170615T195907Z
UID:54299-1499558400-1499990399@gpsworld.com
SUMMARY:IFCS-EFTF 2017
DESCRIPTION:The 2017 joint conference of the IEEE International Frequency Control Symposium and European Frequency and Time Forum will take place in Besançon\, France\, at the Micropolis Convention Center on July 9-13.\nTopics\n\n \tGroup 1: Materials\, Resonators & Resonator Circuits\n \tGroup 2: Oscillators\, Synthesizers\, Noise\, & Circuit Techniques\n \tGroup 3: Microwave Frequency Standards & Applications\n \tGroup 4: Sensors & Transducers\n \tGroup 5: Timekeeping\, Time and Frequency Transfer\, GNSS Applications\n
URL:http://gpsworld.com/event/ifcs-eftf-2017/
LOCATION:Besançon\, France
CATEGORIES:Timing
END:VEVENT
BEGIN:VEVENT
DTSTART;VALUE=DATE:20170711
DTEND;VALUE=DATE:20170713
DTSTAMP:20170709T163305
CREATED:20170615T200911Z
LAST-MODIFIED:20170615T200911Z
UID:54305-1499731200-1499990399@gpsworld.com
SUMMARY:Automated Vehicles Symposium
DESCRIPTION:The Automated Vehicles Symposium convenes industry\, government\, and academia from around the world to address complex technology\, operations\, and policy issues. Its mission is to inform and engage\, to support progress towards safe\, automated mobility.\n\nTopics include law\, infrastructure\, operations\, human factors\, shared mobility\, cybersecurity\, ethics\, aftermarket products\, enabling technologies\, roadworthiness certification\, cities\, public policy\, and consumer acceptance. Now in its fourth year\, the symposium is the largest dedicated automated vehicles meeting in the world.
URL:http://gpsworld.com/event/automated-vehicles-symposium/
LOCATION:San Francisco\, CA\, United States
CATEGORIES:Automotive
END:VEVENT
BEGIN:VEVENT
DTSTART;VALUE=DATE:20170730
DTEND;VALUE=DATE:20170804
DTSTAMP:20170709T163305
CREATED:20170123T202430Z
LAST-MODIFIED:20170123T202430Z
UID:50932-1501372800-1501891199@gpsworld.com
SUMMARY:IAG-IASPEI Joint Scientific Assembly
DESCRIPTION:Joint Scientific Assembly of the International Association of Geodesy (IAG) and International Association of Seismology and Physics of the Earth’s Interior (IASPEI) will be held July 30-Aug. 4 in Kobe\, Japan.\n\nThe assembly is sponsored by the Geodetic Society of Japan\, the Seismological Society of Japan (SSJ) and the IAG-IASPEI 2017 Local Organizing Committee.\n\n"The city of Kobe experienced a devastating earthquake in 1995. But 20 years later\, it is our pleasure to have the scientific assembly accommodating a wide variety of research including the fields of geodesy and seismology in the city that has completely recovered\," the organizers said.\nThe assembly includes IAG Symposium G05\, "Multi-signal positioning: theory and applications\," described below.\nG05 Multi-signal positioning: Theory and applications\nConveners: Marcelo Santos\, Allison Kealy\, Vassilis Gikas\, Pawel Wielgosz\, Jinling Wang.\nSignals of various types have been used for positioning in different applications at different levels of accuracy. They can be used separately but have been increasingly integrated. This symposium deals with theoretical developments and applications of multi-signal positioning. \nThe organizers invite the submissions of papers dealing with\, but not excluded to\, manned or unmanned\, multi-sensor systems navigation and guidance\, transportation\, personal mobility\, industrial and indoor positioning applications environmental monitoring\, used of low-cost sensors including GNSS systems and smartphone navigation sensors\, geospatial mapping and engineering\, ranging from construction work\, geotechnical and structural health monitoring\, mining\, to natural phenomena such as landslides and ground subsidence\, geodetic applications and high-precision GNSS technologies and applications and the use of multi-signals stemming from modernized signals and issues and opportunities coming from multi-constellation signals. \nThe integration of different types of signals brings all sorts of challenges and opportunities and this symposium is open to any discussion about them.\nLearn more on the conference website.
URL:http://gpsworld.com/event/iag-iaspei-joint-scientific-assembly/
LOCATION:Kobe\, Japan
CATEGORIES:GIS,GNSS
END:VEVENT
BEGIN:VEVENT
DTSTART;VALUE=DATE:20170730
DTEND;VALUE=DATE:20170803
DTSTAMP:20170709T163305
CREATED:20170209T145742Z
LAST-MODIFIED:20170210T144153Z
UID:51341-1501372800-1501804799@gpsworld.com
SUMMARY:2017 Surveying and Geomatics Educators Society Conference
DESCRIPTION:The Surveying and Geomatics Educators Society Conference (SaGES) promotes the effective teaching and learning of surveying\, mapping\, geomatics\, and other spatially‐related education. SaGES is a forum where academia\, industry and government work together to exchange ideas\, promote common causes\, and provide opportunities to improve the teaching and learning of geomatics.
URL:http://gpsworld.com/event/2017-surveying-and-geomatics-educators-society-conference/
LOCATION:725 SW 26th St.\, Corvallis\, OR\, 97331\, United States
CATEGORIES:Survey
END:VEVENT
BEGIN:VEVENT
DTSTART;VALUE=DATE:20170904
DTEND;VALUE=DATE:20170915
DTSTAMP:20170709T163305
CREATED:20170105T212003Z
LAST-MODIFIED:20170105T212003Z
UID:50508-1504483200-1505519999@gpsworld.com
SUMMARY:JRC Summer School on GNSS 2017
DESCRIPTION:The University of the Bundeswehr Muenchen and the Norwegian Space Centre are organizing the International Summer School on Global Satellite Navigation Systems 2017.\n\n[caption id="attachment_50512" align="alignright" width="300"] Longyearbyen\, Norway.[/caption]\n\nThis year the Summer School will be held at Longyearbyen\, Svalbard - Spitsbergen\, Norway\, Sept. 4-15. Lectures start the morning of Sept. 5 and end Sept. 14 following dinner.\n\nThe Summer School is open to graduate students\, Ph.D. candidates\, early-state researcher and young professionals seeking to broaden their knowledge.\n\nThe summer school will provide key information\, fresh ideas\, basics\, innovative approaches and practical advice on such topics as:\n\n \tBasics of satellite navigation\n \tIonospheric and tropospheric effects on GNSS\n \tCarrier-phase positioning\n \tGNSS RF link performance\n \tGNSS signals\n \tGNSS receivers\n \tLeadership and team effectiveness\n \tGNSS threats and countermeasures\n \tNavigation in GNSS denied environments\n \tCyber safety for civilian navigation\n \tBecome a GNSS entrepreneur\n \tLocation data and raw measurements in Android\n \tIPR and patents in GNSS\n \tLiability issues in GNSS\n \tRailway high-integrity navigation overlay system (RHINOS)\n \tMulti-frequency multi-system GNSS\n \tEvolution of GNSS\, in particular of the Galileo system\n \tSatellite-based augmentation system (SBAS) and receiver autonomous integrity monitoring (RAIM\, ARAIM)\n \tECSS standards (phases\, reviews\, documentation\, etc.)\n \tGNSS space service volume and deep space navigation\n\nThe summer school will be held in cooperation with the European Space Agency and the Joint Research Centre\, as well as\, ISAE Supaero\, Stanford University and TU Graz.\n\nLearn more at the school website.
URL:http://gpsworld.com/event/jrc-summer-school-on-gnss-2017/
LOCATION:Longyearbyen\, Svalbard\, Norway
CATEGORIES:GNSS,PNT
END:VEVENT
BEGIN:VEVENT
DTSTART;VALUE=DATE:20170925
DTEND;VALUE=DATE:20180925
DTSTAMP:20170709T163305
CREATED:20161201T212206Z
LAST-MODIFIED:20161201T213309Z
UID:49949-1506297600-1537919999@gpsworld.com
SUMMARY:ION GNSS+ 2017
DESCRIPTION:ION GNSS+ is the world’s largest technical meeting and showcase of GNSS technology\, products and services. This year’s conference will bring together international leaders in GNSS and related positioning\, navigation and timing fields to present new research\, introduce new technologies\, discuss current policy\, demonstrate products and exchange ideas.\n\nION GNSS+ 2017 will take place Sept. 25-29 at the Oregon Convention Center in Portland\, Oregon.\n\nThe abstract deadline is March 10.\n\nION GNSS+ features two unique tracks\, each with its own abstract and manuscript submission requirements: the Applications and Advances Track and the Research and Innovations Track. Visit the website for details.\n\n
URL:http://gpsworld.com/event/ion-gnss-2017/
LOCATION:Portland\, OR\, United States
CATEGORIES:Automotive,Aviation,Communication and Networking,Defense,Emergency Response,Engineering,GNSS,Government,Location-Based Software and Services,Mobile,PNT,Precise Point Positioning (PPP),Timing,Transporation,UAVs,Wireless
END:VEVENT
BEGIN:VEVENT
DTSTART;VALUE=DATE:20170926
DTEND;VALUE=DATE:20170928
DTSTAMP:20170709T163305
CREATED:20170615T203953Z
LAST-MODIFIED:20170615T203953Z
UID:54320-1506384000-1506643199@gpsworld.com
SUMMARY:Intergeo 2017
DESCRIPTION:INTERGEO\, which consists of a conference and a trade fair\, is the world’s largest event for geodesy\, geoinformation and land management. It is held every year at different venues in Germany. The conference\, which has around 1\,300 participants\, deals with current issues from politics\, administration\, science and industry. At last year’s leading trade fair\, over 17\,000 visitors (from more than 100 countries) explored the latest innovations and future applications showcased by 531 exhibitors (from 37 different countries).\n\nINTERGEO will be visiting the internationally renowned exhibition cities of Berlin in 2017\, Frankfurt in 2018 and Stuttgart in 2019.\n\nINTERGEO is hosted by DVW\, the German Society for Geodesy\, Geoinformation and Land Management.
URL:http://gpsworld.com/event/intergeo-2017/
LOCATION:Berlin\, Germany
CATEGORIES:GNSS,Survey
END:VEVENT
BEGIN:VEVENT
DTSTART;VALUE=DATE:20171002
DTEND;VALUE=DATE:20171003
DTSTAMP:20170709T163305
CREATED:20170530T221537Z
LAST-MODIFIED:20170530T221537Z
UID:53894-1506902400-1507075199@gpsworld.com
SUMMARY:TU-Automotive ADAS & Autonomous USA 2017
DESCRIPTION:TU-Automotive’s ADAS & Autonomous 2017 conference will be returning for its third iteration this October 2-3.\nWith autonomous vehicle technology now at the forefront of automotive technology\, there has never been a more crucial time to understand the technological complexities\, including AI integration and sensor fusion along with the wider implications such as automated mobility services.\nA comprehensive agenda will cover the latest trends in the ADAS and autonomous space.\n\nLearn more through the event brochure.\n\n 
URL:http://gpsworld.com/event/tu-automotive-adas-autonomous-usa-2017/
LOCATION:Novi\, MI\, United States
CATEGORIES:Automotive,Transporation
END:VEVENT
BEGIN:VEVENT
DTSTART;VALUE=DATE:20171002
DTEND;VALUE=DATE:20171003
DTSTAMP:20170709T163305
CREATED:20170628T165634Z
LAST-MODIFIED:20170628T165634Z
UID:54550-1506902400-1507075199@gpsworld.com
SUMMARY:ADAS & Autonomous Vehicle USA Conference & Exhibition
DESCRIPTION:The ADAS & Autonomous Vehicle Conference & Exhibition\, which will be held Oct. 2-3 in Novi\, Michigan\, focuses on the here and now of self-driving technology. As these technologies storm the headlines\, TU-Automotive focuses on the current challenges and unite players from research labs\, automakers\, tier 1’s and the complete supply chain to plan for the imminent future. This year’s event will bring together a host of the movers and shakers in the active safety and automation world to give a comprehensive view of the latest innovations and business solutions that will drive the industry into the future.
URL:http://gpsworld.com/event/adas-autonomous-vehicle-usa-conference-exhibition/
CATEGORIES:Transporation
END:VEVENT
BEGIN:VEVENT
DTSTART;VALUE=DATE:20171018
DTEND;VALUE=DATE:20171020
DTSTAMP:20170709T163305
CREATED:20170206T205216Z
LAST-MODIFIED:20170206T205540Z
UID:51187-1508284800-1508543999@gpsworld.com
SUMMARY:INGEO2017
DESCRIPTION:This conference\, which adopted the motto "Monitoring: Needs and Solutions\," will join together two engineering communities — civil engineers and engineering surveyors with activity in the area of monitoring of structures by geospatial techniques.\n\nGeospatial techniques are positioning techniques\, usually applied by engineering surveyors\, using equipment like laser scanners\, GPS/GNSS antennae\, total stations\, satellites\, LiDAR\, InSAR and small unmanned aerial vehicles (UAVs). The diversification and improvement of these techniques are allowing better control of structures and deeper knowledge of their behavior. In the beginning\, when theodolites\, levels and invar tapes were the only equipment available\, geospatial techniques could only be used to measure displacements of some points. Now\, the new techniques can complement these data\, providing information on the behavior of the structure as a whole and also on its surroundings. More recently\, geospatial techniques are also making valuable contributions to visual inspections\, particularly in areas where direct access is difficult or impossible.\n\nFor all these reasons geospatial techniques allow civil engineers responsible for the safety of structures to have increasingly complete\, diversified and accurate information at their disposal.\n\nIn addition to technical sessions for the presentation of papers\, INGEO2017 will have plenary sessions with invited speakers who are experts in geospatial techniques and in structures. Engineering surveyors will present information on the new and more accurate geospatial technologies\, show how they contribute to monitoring\, and explain their strengths and limitations. Meanwhile\, civil engineers will describe the behaviour and monitoring needs of different types of structures.\n\nWhy INGEO2017?\n\nBecause is it important that experts in geospatial techniques improve their knowledge about civil engineering structures and their behaviour so that they can suggest new and improved monitoring solutions.\nBecause it is important that civil engineers better understand the power of the new geospatial technologies.
URL:http://gpsworld.com/event/ingeo2017/
LOCATION:Av. do Brasil 101\, Lisbon\, Portugal
CATEGORIES:User conference
END:VEVENT
BEGIN:VEVENT
DTSTART;VALUE=DATE:20171024
DTEND;VALUE=DATE:20171026
DTSTAMP:20170709T163305
CREATED:20161213T221842Z
LAST-MODIFIED:20161214T200556Z
UID:50226-1508803200-1509062399@gpsworld.com
SUMMARY:Commercial UAV Expo Americas
DESCRIPTION:Commercial UAV Expo\, presented by Commercial UAV News\, is a conference and exhibition exclusively focused on the high-precision commercial drone market covering industries including civil infrastructure; construction; process\, power and utilities; surveying and mapping; aggregates and mining; precision agriculture; law enforcement\, emergency response and search and rescue (SAR).\n\nLearn more on the conference website.
URL:http://gpsworld.com/event/50226/
LOCATION:Las Vegas\, NV\, United States
CATEGORIES:UAVs
ATTACH;FMTTYPE=image/png:http://gpsworld.com/wp-content/uploads/2016/12/UAV_Expo_Americas_HZ_4C-W.png
END:VEVENT
BEGIN:VEVENT
DTSTART;VALUE=DATE:20171025
DTEND;VALUE=DATE:20171027
DTSTAMP:20170709T163305
CREATED:20161209T000830Z
LAST-MODIFIED:20161209T000830Z
UID:50145-1508889600-1509148799@gpsworld.com
SUMMARY:6th International Colloquium — Scientific and Fundamental Aspects of GNSS/Galileo
DESCRIPTION:The 6th International Colloquium — Scientific and Fundamental Aspects of GNSS/Galileo will be held Oct. 25-27 in Valencia\, Spain.\n\nAuthors are invited to submit their abstracts by using the online abstract submission form on the colloquium website.\n\nThe deadline for abstract submission is May 1.\n\nFor more information on the symposium and sponsorship opportunities\, visit the website.
URL:http://gpsworld.com/event/6th-international-colloquium-scientific-and-fundamental-aspects-of-gnssgalileo/
LOCATION:Valencia\, Spain
CATEGORIES:GNSS
END:VEVENT
BEGIN:VEVENT
DTSTART;VALUE=DATE:20171029
DTEND;VALUE=DATE:20171102
DTSTAMP:20170709T163306
CREATED:20170615T202621Z
LAST-MODIFIED:20170615T202655Z
UID:54312-1509235200-1509667199@gpsworld.com
SUMMARY:ITS World Congress 2017
DESCRIPTION:The ITS World Congress 2017\, produced by ITS America in conjunction with ITS Canada and co-organized by ITS Europe and ITS Asia-Pacific\, brings together global leaders in intelligent and transformative transportation to showcase and evaluate the latest innovative concepts\, active prototypes\, and live systems. Academics\, researchers\, policymakers\, businesses\, entrepreneurs\, investors\, implementers\, and the media — thousands of people from the transport\, automotive\, telecommunications\, and technology sectors — will engage in robust discussions and spirited debates as to how this rapidly changing and ever-expanding industry is addressing the very real challenges facing our mobile\, connected societies today and in the future.\n\nA highlight of the event will be the Smart Cities Pavilion. As a designated section of the Exhibit Hall\, the Pavilion will highlight Smart Cities from around the world\, continuing the discussion and debate around how policy can advance the future of integrated mobility\, how transportation is moving to the center of the Internet of Things and how technological solutions and the IoT are changing cities. It will serve as a learning laboratory and feature information about leading international smart cities.\n\nITS World Congress 2017 will offer cutting-edge keynotes and educational programming presented by intelligent transportation experts from all over the world. Technical Papers will address technical subjects as well as the institutional\, business\, and economic aspects of intelligent transportation and supporting systems. The educational program will also feature Full Scientific Papers\, focused on research and scholarship\, as well as Special Interest Sessions.
URL:http://gpsworld.com/event/its-world-congress-2017/
LOCATION:Montreal\, Canada
CATEGORIES:Automotive
END:VEVENT
BEGIN:VEVENT
DTSTART;VALUE=DATE:20171108
DTEND;VALUE=DATE:20171109
DTSTAMP:20170709T163306
CREATED:20170615T203205Z
LAST-MODIFIED:20170615T203205Z
UID:54317-1510099200-1510271999@gpsworld.com
SUMMARY:International Symposium on Precision Approach and Performance-Based Navigation
DESCRIPTION:Growth of air traffic density and new emerging technologies require air navigation modernization and increased airspace efficiency. Most demanding is the last phase of flight where aircraft operate close to the ground on approach and landing. Here\, guidance needs to be precise enough to guarantee safety while minimizing environmental impact especially with respect to noise. Performance Based Navigation (PBN) approach types such as APV\, LP\, LNAV/VNAV have been recently complemented by LPV-200. Enhanced and synthetic vision systems are being demonstrated to improve current approach procedure minima and GBAS is heading towards CAT-III capability. Helicopter operators seek for low level IFR applications with low visibility approach procedures to helipads on demanding surroundings. Legacy systems like ILS and MLS are still being improved to cope with environment issues.\n\nSince last ISPA in 2013\, a new area of interest has emerged. An exponential increase of Unmanned Aircrafts (UA)\, Remotely Piloted Aircraft Systems (RPAS)\, Personal Air Vehicles (PAV)\, etc. is currently experienced worldwide. The expectations on these new systems are going to be far beyond todays utilizations. Unmanned and manned automated vehicles are being developed in parallel. Pilotage beyond Line of Sight are the grail to unpredicted new service opportunities. Clash of interests between todays settled airspace users and new UA based services is inevitable. Highly accurate and integer positioning and navigation systems play a key role in order to pave the way for the coexistence of both communities. PBN knowledge and experience transfer to the UA community is imperative in order to minimize development costs and risks\n\nThe International Symposium on Precision Approach and Performance Based Navigation (ISPA) seeks contributions in all these related fields. Information on latest achievements are welcome. Papers may contain\, but are not limited to investigate procedures\, ground operations\, ATC procedures\, helicopter operations\, noise abatement efforts\, environmental impacts\, human factors as well as rules and regulations. Moreover\, submissions related to technological aspects such as GNSS\, augmentation systems\, radio navigation\, new and emerging navigation services\, signals of opportunity as well as guidance and control aspects are awaited as well.
URL:http://gpsworld.com/event/international-symposium-on-precision-approach-and-performance-based-navigation/
LOCATION:Munich\, Germany
CATEGORIES:Aviation
END:VEVENT
BEGIN:VEVENT
DTSTART;VALUE=DATE:20171114
DTEND;VALUE=DATE:20171117
DTSTAMP:20170709T163306
CREATED:20170615T201823Z
LAST-MODIFIED:20170615T201823Z
UID:54308-1510617600-1510963199@gpsworld.com
SUMMARY:International Technical Symposium on Navigation and Timing
DESCRIPTION:The International Technical Symposium on Navigation and Timing\, also known as the ITSNT\, is an annual event organized by CNES and ENAC for professionals and researchers working with or interested in navigation and timing technologies and their use. This event focuses specifically on technical topics that are addressed by experts from all around the world that share their ideas\, expertise and views. The audience can easily engage in discussion with these experts during the question sessions and round tables. The ITSNT also provides a great environment for networking and visiting our sponsors' exhibition stands.\nKey elements\n\n \tInternational event\n \tA high quality and recognized scientific committee\n \tTechnical presentations on hot topics related to navigation and timing\n \tInternationally recognized guest speakers\n \tSelective call for abstract\n \tRound tables\n \tExhibition area\n \tNetworking\n \tTutorials\n
URL:http://gpsworld.com/event/international-technical-symposium-on-navigation-and-timing-2/
LOCATION:Toulouse\, France
CATEGORIES:GNSS,PNT,Timing
END:VEVENT
BEGIN:VEVENT
DTSTART;VALUE=DATE:20171210
DTEND;VALUE=DATE:20171213
DTSTAMP:20170709T163306
CREATED:20170321T143708Z
LAST-MODIFIED:20170321T164320Z
UID:52284-1512864000-1513209599@gpsworld.com
SUMMARY:ISGNSS 2017
DESCRIPTION:The annual ISGNSS is an excellent platform for participants from academia and industry to share\, exchange\, discuss and promote new ideas\, innovations and latest developments in Global Navigation Satellite Systems technologies and applications.\n\nAbstracts related (but not limited) to the following topics are welcome to submit to the ISGNSS 2017. The abstract submission via online system will be open very soon.\n\n1. Aircraft and Marine Navigation and Surveillance\n2. Autonomous Navigation (Vehicles\, Ships\, UAVs\, Robots)\n3. Challenging Navigation Problems\n4. Emerging PNT Consumer Applications\n5. Geodesy\, Surveying and Mapping\n6. GNSS Algorithms and Methods\n7. GNSS Augmentations\n8. GNSS Policy and Status Updates\n9. GNSS Receiver Signal Processing and Antenna Technologies\n10. GNSS Remote Sensing (Radio Occultation\, Reflectometry)\n11. High Precision GNSS Correction and Monitoring Networks\n12. Indoor Positioning and Mapping / Urban and Personal Navigation\n13. Inertial Navigation Systems and Multi-Sensor Integration\n14. Interference\, Jamming and Spoofing\n15. Ionospheric Monitoring and Space Weather Effects on GNSS\n16. PPP\, RTK and e-GNSS\n17. Timing and Scientific Applications\n\nFor more information\, contact George Liu at lszzliu@polyu.edu.hk.
URL:http://gpsworld.com/event/isgnss-2017/
LOCATION:Hong Kong\, China
CATEGORIES:GNSS
END:VEVENT
BEGIN:VEVENT
DTSTART;VALUE=DATE:20180207
DTEND;VALUE=DATE:20180208
DTSTAMP:20170709T163306
CREATED:20170626T183731Z
LAST-MODIFIED:20170626T183731Z
UID:54475-1517961600-1518134399@gpsworld.com
SUMMARY:ConnecteDriver & Smart Mobility Conference
DESCRIPTION:With more than 50 expert speakers and 200 senior attendees\, The fifth annual ConnecteDriver & Smart Mobility conference is a must attend event that offers the right mix between the automotive\, mobile and consumer electronics industry\, with a strong focus on the driver.\n\nRegistration prices:\nEarly bird ticket: €549 until November 10th\, 2017\nLate bird ticket: €729 until December 22nd\, 2017\nFull price ticket: €929
URL:http://gpsworld.com/event/connectedriver-smart-mobility-conference/
LOCATION:Boulevard Adolphe Max 98\, Brussels\, Belgium
CATEGORIES:Automotive
END:VEVENT
END:VCALENDAR